BEGIN:VCALENDAR
VERSION:2.0
PRODID:-//Mecsekszabolcsi Környezet- és Érdekvédő Egyesület - ECPv6.15.20//NONSGML v1.0//EN
CALSCALE:GREGORIAN
METHOD:PUBLISH
X-WR-CALNAME:Mecsekszabolcsi Környezet- és Érdekvédő Egyesület
X-ORIGINAL-URL:https://www.mecsekszabolcsi.hu
X-WR-CALDESC:Események Mecsekszabolcsi Környezet- és Érdekvédő Egyesület
REFRESH-INTERVAL;VALUE=DURATION:PT1H
X-Robots-Tag:noindex
X-PUBLISHED-TTL:PT1H
BEGIN:VTIMEZONE
TZID:UTC
BEGIN:STANDARD
TZOFFSETFROM:+0000
TZOFFSETTO:+0000
TZNAME:UTC
DTSTART:20230101T000000
END:STANDARD
END:VTIMEZONE
BEGIN:VEVENT
DTSTART;TZID=UTC:20250602T033000
DTEND;TZID=UTC:20250610T220000
DTSTAMP:20260423T164604
CREATED:20250324T114336Z
LAST-MODIFIED:20250329T164903Z
UID:2084-1748835000-1749592800@www.mecsekszabolcsi.hu
SUMMARY:Szakrális helyek - önellátó gazdaságok - gyógyfürdők - és zarándoklat Csíksomlyóra
DESCRIPTION:Baranya MAG – Magyar Népi Gyógyászok tanulmányútja 2025-ben      \n                              ENGLISH ⬇️\n\n\n\n\n   \n  \n  \nSzakrális helyek — önellátó gazdaságok — gyógyfürdők — és zarándoklat Csíksomlyóra \n\n\n\n\n2025. június 02. (hétfő) – június 10. (kedd) között (9 nap) \nCsatlakozz 2025-ben a Baranya MAG által szervezett Pécsről induló tanulmányúthoz és vegyél részt velünk a csíksomlyói búcsún. \nVáltozatosan érdekes\, ugyanakkor testileg és lelkileg feltöltő programokkal készülünk. Idén az Arad környéki szakrális helyeket szeretnénk bejárni\, meglátogatunk egy csacsi és egy szürkemarha gazdaságot\, sókamra élményekben lesz részünk\, kül- és beltéri gyógyfürdőkben lazíthatunk\, és mofettázunk. Pünkösdkor csatlakozunk a csíksomlyói Zarándoklathoz. A virrasztóknak Napba nézés\, napfelkelte a Somlyó-nyeregben. \nAz állomások bármely pontján lehet csatlakozni a programokhoz\, viszont az utólag csatlakozóknak a szállást és utazást maguknak kell megszervezniük\, de amiben tudunk\, segítünk! \nTervezett állomások \nA szállás 3 részben lesz: hétfő-kedd (2 éjszaka reggelivel) Ópáloson a Balla Géza borászat vendégszállásán\, szerda-csütörtök (2 éjszaka batyuból) Székelykeresztúron\, (péntek-hétfő batyuból) 4 éjszaka Csíkszeredában. \n  \nJúnius 2 hétfő \n\n\n\nPécs – Arad – Világos (Șiria) – Feredő Remetekolostor (Schitul Mănăstirea Feredeu) – Máriaradna (Radna) – Ópálos (Păuliș)\n\n\n\nA kisbusz hétfő hajnali 4-kor indul a Pécs – Pázmány Péter-Magyarürögi út\, útkereszteződés parkolójából. (Induláskor már rajta kell lenni\, tehát kéretik fél órával előbb érkezni!)\nFel- és leszállni az útvonal mentén bárhol lehet\, de senkiért nem megyünk le az útvonalról!\nUtazás a következő útvonalon: Pécs\, 2025. június 2. (hétfő) 4:00 óra – nagylaki határátlépéssel. Útközben több megállás\, majd kora délelőtti érkezés Aradra.\n✅Aradon első állomásként megtekintjük a „vesztőhelyet”\, a vértanuk kivégzések helyszínét\, majd további szakrális\, illetve energetikailag erős helyeket nézünk meg\, mint a világosi fegyverletételről híres helyszín\, ✅Világos (Șiria) és az ott lévő romvár. Megnézzük a közelben lévő ✅Feredő Remetekolostor (Schitul Mănăstirea Feredeu) helyszínét és az ottani forrást\, amit a szerzetesek gondosan őriznek. Délután zarándoklatunkra hangolódva a ✅máriaradnai (Radna) Kegytemplomhoz megyünk\, végigjárjuk a templom mögötti erdőkert jellegű kálváriát\, ahol a stációknál a közösségek által állított szentekkel találkozunk. ✅Ópáloson (Păuliș) a Balla Géza Pincészetnél lesz a szállásunk két éjszakára. A szálláshelyen az ár tartalmazza a reggelit (kedd és szerda reggel). \n  \nJúnius 3 kedd \n\n\n\nAngyalkút – Arad – Ópálos\n\n\n\n✅Angyalkút (Fântânele) a csacsi farm helyszíne a gyönyörű Maros parton\, ahova már kora délelőtt ellátogatunk és megnézzük\, hogyan működnek ott a dolgok. Délután visszaautózunk Aradra\, megnézünk a több teremből álló sókamrát (Gabotti Prima Materia\, Salina Arad)\, ahol elcsendesedünk és feltöltődünk kicsit. Ezután néhány órás szabad program Aradon\, majd vissza Ópálosra a szállásra.\nA Pincészetnél kérhetünk estére borkóstolót\, vagy különféle borokkal kísérő közös vacsorát. Ezt majd közösen eldöntve saját költségvetésből fizeti mindenki. \n  \nJúnius 4 szerda \n\n\n\nVizakna (Ocna Sibiului) – Szelindek (Slimnic) – Székelykeresztúr\n\n\n\nVizakna (Ocna Sibiului) – Szelindek (Slimnic) – Székelykeresztúr\nFolytatjuk utunkat Erdély szívébe. Útközben megállunk ✅Vizaknán (Ocna Sibiului) a gyógyfürdőben\, majd átmegyünk ✅Szelindekre (Slimnic) ahol maga Bem és Petőfi is megszállt mielőtt a segesvári csatába indultak volna. Megtekintjük az ottani várat\, és megcsodáljuk a helyet. Aznapra a cél ✅Székelykeresztúr\, ahova késő délután érkezünk és elfoglaljuk szálláshelyünket. Ha van még energiánk\, esti kikapcsolódásnak elsétálunk a Gyárfás kertbe és megnézzük Petőfi körtefáját. \n  \nJúnius 5 csütörtök \n\n\n\nSzékelyszenterzsébet (Eliseni) – Székelykeresztúr\n\n\n\n✅Székelyszenterzsébet (Eliseni) a következő érdekes állomásunk\, ahol Kincses Kálmán barantás református lelkész birodalmát fogjuk meglátogatni. Kíváncsiak leszünk\, hogyan bír a szürke marháival\, megnézzük az üzemét\, a tájházat és segíthetünk neki a „pünkösdi királyválasztás” előkészületeiben\, amit pünkösd vasárnapján fognak náluk megtartani. Estére visszamegyünk Székelykeresztúrra a szállásra\, ahol találkozunk a székelykeresztúri MAG-os népi gyógyász közösség tagjaival. \n  \nJúnius 6 péntek \n\n\n\nBögöz (Mugeni) – Homoródalmás (Mereşti) – Nádasszéki gyógyfürdő – Csíkszereda\n\n\n\nReggel összepakolva tovább folytatjuk utunkat Csíkország fele. Útközben megállunk ✅Bögözön (Mugeni)\, itt megnézzük a helyi református templomot\, ahol a Kárpát-medencében fellelhető legnagyobb felületű Szent László freskó látható és a „Kincses Porta” elnevezésű tájházat. Aznapi másik fő úticélunk a ✅Nádasszéki gyógyfürdő\, de előtte megállunk ✅Homoródalmáson (Mereşti) a Homoródmenti Méhészetnél. Várhatóan este érkezünk ✅Csíkszeredába szálláshelyünkre\, ami egy egészségközpontban lesz. Itt elővesszük a magunkkal hozott hálózsákjainkat – tatamik lesznek a helyszínen. \n  \nJúnius 7 szombat \n\n\n\nCsíkszereda – Hármas halom oltár – Barátok-feredője – Táncszínház – Kálvária\n\n\n\nCsíksomlyói búcsú\nReggel csatlakozás a keresztaljához\, majd gyalog zarándoklás a búcsúba. Kényelmes séta távolságra leszünk a helyszíntől. Aki akar\, részt vesz a 12:30-kor kezdődő pünkösdi ünnepi szentmisén a ✅Hármas halom oltárnál\, a Kis- és Nagy Somlyó hegyek közötti nyeregben. Egész napos böjtöt lehet tartani\, ha nem\, akkor hozott anyagból vagy a helyszínen lehet enni. Napközben kóstolgathatjuk a borvizet\, a Barátok-feredőjében lábat áztatunk\, vásárfiát nézünk és veszünk az otthoni szeretteinknek. 20 órától terveink szerint idén is megyünk Táncszínházba\, a Hargita Nemzeti Székely Népi Együttes előadására\, melynek címe: „A pásztorok”. A mű a betyár- és pásztoréletet mutatja be. (Ha valaki szeretne jönni\, szóljon nekünk\, jegyek tettek félre a számunkra.) Aki akar\, Csíksomlyón marad virrasztani\, megjárjuk a Kálváriát és az éjszakát a nyeregben töltjük. Aki pihenni kíván\, visszamegy a szálláshelyre. \n  \nJúnius 8 vasárnap \n\n\n\nCsíkszereda – Hármas halom oltár – Szentimrei Büdösfürdő\n\n\n\nHajnalban Napba Nézés. Sok régen látott ismerős találkozik ilyenkor a nyeregben. Van\, hogy csak itt találkozunk – évente egyszer. Majd visszamegyünk a szállásra\, kicsit megpihenünk. Délután a ✅Szentimrei Büdösfürdőn mofettázunk és feltöltődünk a gyönyörű tájban. \n  \nJúnius 9 hétfő \n\n\n\nCsíkszéphavas\n\n\n\nCsíkszéphavasi búcsú\nKirándulás ✅Csíkszéphavasra. A hitrege szerint Szent László a pogány kunok egy csapatát szétverte itt. „Győzelme helyén hálaimát emelt az ég urához\, s egy emlék-kápolnát épített\, azután pedig táltos lovával\, a nyomait most is védő szikláról leugratott a völgybe.” (Balla Ede Zsolt- László Király öröksége\, 39. o.) Délelőtt 11-től szentmise a Szentlélek Kápolnában. Sokan zarándokolnak majd Pünkösd Hétfőjén ide\, régi és új barátokkal ismét lehet találkozni\, gyönyörködni és töltődni a tájban\, Boldogasszony virágos kötényében. \n  \nJúnius 10 kedd \n\n\n\nHazautazás\n\n\n\nHajnalban hazaindulás ✅Pécsre. \n >> FB esemény \n  \nA program változtatás jogát fenntartjuk. \nElőző évek beszámolóiból itt lehet mazsolázni: >> 2019 >> 2020 (a járvány miatt Baranyában) >>2021 >>2022 >> Képes visszatekintés a Szt. László tanulmányútra és a Csíksomlyói Búcsúra 2022-ben  >>2023-ban\, >>2024-ben. \nEsemény a honlapon: \nJelentkezés és részvételi díj (Utazás\, szállással):            160.000.- Ft/fő \nKorlátozott helyek miatt\, többkategóriát nem tudunk képezni\, aki előbb fizeti az előleget\, őt tudjuk elvinni! \nKisbusszal megyünk\, ezért nagyon korlátozottak a helyek száma\, ugyanakkor a szállásfoglalás miatt fontos tudnunk a részvételi szándékot\, mert le kell foglalni biztosra a szállást!!! \nJelentkezni 2025. április 12.-ig az előleg megfizetésével\, 50.000 Ft lehet. A részvétei díj tartalmazza az üzemanyag\, útadó\, idegenvezetés\, szállás díját és az első 2 nap reggeli. A többi napokon az étkezés önerőből történik\, mindenki a magával hozott\, illetve a helyszínen vásárolt elemózsiából. Étkezés rendelésére lesz lehetőség a helyszíneken\, de a programok rugalmasságát meghagyva előre nem szerveztük le\, mert mi van\, ha útközben megtetszik egy hely és ki szeretnénk próbálni. \nA költségek nem tartalmazzák a belépők\, étkezések\, fizető programok árát! Kivéve az első 2 napot\, ami tartalmazza a reggelit. \nAz étkezéseket egyrészt saját\, hozott élelemből oldjuk meg\, valamint helyi étkezdékben. Akinek eltérő étkezési szokásai vannak pl: eszik húst\, gluténmentesen étkezik\, vega stb. azt is jelezze\, ha tudjuk\, megoldjuk… \nHoznivalók \nÉtel és ital áldomást hozzatok! Csíkszeredában egy egészségközpontban fogunk aludni\, ahol lesznek tatamik\, de hálózsákot vinnünk kell. Közös térben alszunk. A Csíksomlyón töltendő éjszakai virrasztáshoz is szükséges derékaljat\, hálózsákot\, takarót\, kinek mire van szüksége. A várható időjárásra készülve esőálló felsőruhát hozzatok\, és kényelmes cipőt/bakancsot is\, amiben túrázni is lehet! Kullancs spray-re általában nincs szükség\, de szauna felszerelés\, fürdőruha\, törölköző kellhet. \nHasznos lehet még zseblámpa\, evőeszköz\, úti pohár\, bicska\, egyéb „túlélő” felszerelések\, saját hangszer\, meg amit még gondoltok 🙂 \nAz előleget\, 50 000 Ft\, személyesen vagy az alábbi bankszámlára kérjük átutalni: Mecsekszabolcsi Környezet és Érdekvédő Egyesület: Takarékbank Zrt.: 50300109-55100210. Megjegyzésben kérjük feltüntetni: Név és melyik településről jön. \n  \nA jelentkezéskor kérjük leadni e-mailben (baranya.mag.pecs@gmail.com) a • nevet\, • címet\, • születési dátum\, • hely\, • útlevél vagy szig. számot (ellenőrizzétek az érvényességet!!!!) email címet és telefonszámot\, és hogy hol szállsz fel. Utas listához szükségesek a fenti adatok. \n  \nJelentkezés és további tájékoztatás: Pelle János\, baranya.mag.pecs@gmail.com\,       \n +3620 / 238-5137 \n  \nENGLISH ⬇️\nBaranya MAG – Study Tour of Hungarian Folk Healers in 2025\nSacred sites – self-sufficient farms – thermal baths – and a pilgrimage to Csíksomlyó\n  \n🗓 Date: June 2 (Monday) – June 10 (Tuesday)\, 2025 (9 days)🚐 Join the study tour organized by Baranya MAG\, departing from Pécs\, and take part in the Csíksomlyó Pilgrimage with us.🌄 We are preparing a diverse and enriching program that will rejuvenate both body and soul. This year\, we plan to explore sacred sites around Arad\, visit a donkey and Hungarian Grey cattle farm\, experience a salt chamber\, relax in indoor and outdoor thermal baths\, and enjoy mofetta therapy. On Pentecost\, we will join the Csíksomlyó Pilgrimage\, with sunrise meditation and sun-gazing at Somlyó Saddle for night vigil participants. \n✅ You can join at any point of the tour\, but those joining later must arrange their own accommodation and transportation—though we will assist wherever possible! \n🚏 Planned Stops and Accommodation\nAccommodation will be in three locations: \nMonday–Tuesday (2 nights with breakfast) in Ópálos at the guesthouse of Balla Géza Winery \nWednesday–Thursday (2 nights self-catered) in Székelykeresztúr \nFriday–Monday (4 nights self-catered) in Csíkszereda \n📅 Itinerary \n📍 June 2\, Monday\nRoute: Pécs – Arad – Világos (Șiria) – Feredeu Hermitage (Schitul Mănăstirea Feredeu) – Máriaradna (Radna) – Ópálos (Păuliș) \n🚌 The minibus departs at 4:00 AM from the Pécs – Pázmány Péter-Magyarürögi Road intersection parking lot. (Please arrive 30 minutes earlier for boarding!)✔ You may get on/off along the route\, but we won’t deviate from the planned path.✔ We will cross the border at Nagylak and make multiple stops before arriving in Arad by mid-morning. \nHighlights of the day:✅ Arad: Visit the execution site of the 1849 Hungarian revolution martyrs and explore other sacred and energetically significant sites\, such as Világos (Șiria) Castle ruins.✅ Feredeu Hermitage: Discover this monastic retreat and its sacred spring\, protected by monks.✅ Máriaradna Shrine: Walk the forested Calvary trail\, encountering saint statues placed by various communities.✅ Ópálos: Accommodation at Balla Géza Winery\, with breakfast included on Tuesday and Wednesday mornings. \n\n📍 June 3\, Tuesday\nRoute: Angyalkút – Arad – Ópálos \n✅ Angyalkút (Fântânele): Visit a donkey farm on the scenic Mureș Riverbanks and learn about its operations.✅ Salt Chamber in Arad (Gabotti Prima Materia\, Salina Arad): Experience deep relaxation and recharging.✅ Free time in Arad before returning to Ópálos. \nOptional: Evening wine tasting or dinner at the winery (self-funded\, decided as a group). \n\n📍 June 4\, Wednesday\nRoute: Vizakna (Ocna Sibiului) – Szelindek (Slimnic) – Székelykeresztúr \n✅ Vizakna: Relax in the medicinal saltwater baths.✅ Szelindek Castle: Visit the historic site where General Bem and poet Petőfi stayed before the Battle of Segesvár.✅ Székelykeresztúr: Arrive in the late afternoon\, settle into accommodation.✅ Evening stroll to Petőfi’s Pear Tree in the Gyárfás Garden. \n\n📍 June 5\, Thursday\nRoute: Székelyszenterzsébet (Eliseni) – Székelykeresztúr \n✅ Visit Kincses Kálmán\, a Reformed pastor\, at his self-sufficient Hungarian Grey cattle farm.✅ Help with preparations for Pentecost King Election\, a local tradition.✅ Evening gathering with Székelykeresztúr’s folk healing community. \n\n📍 June 6\, Friday\nRoute: Bögöz (Mugeni) – Homoródalmás (Mereşti) – Nádasszék Thermal Bath – Csíkszereda \n✅ Bögöz: Explore the largest Saint Ladislaus fresco in the Carpathian Basin and visit the Kincses Porta Folk House.✅ Homoródalmás: Stop at Homoródmenti Beekeeping Farm.✅ Nádasszék Thermal Bath: Enjoy its medicinal waters.✅ Arrive in Csíkszereda\, stay in a wellness center (sleeping bags required\, tatami mats provided). \n\n📍 June 7\, Saturday – Csíksomlyó Pilgrimage\n✅ Join the pilgrim procession to the Pentecost Mass at 12:30 PM at the Triple Hill Altar.✅ Holy well tasting\, foot-soaking at Barátok-feredője\, and shopping at the pilgrimage fair.✅ 8:00 PM: Attend the „Shepherds” dance performance by Hargita National Székely Folk Ensemble (tickets reserved in advance).🌙 Option to stay overnight at the pilgrimage site for the night vigil and Calvary walk or return to accommodation. \n\n📍 June 8\, Sunday\n✅ Sunrise Meditation\, 🌅 Sun-Gazing at dawn at Somlyó Saddle.✅ Rest at accommodation before afternoon mofetta therapy at Szentimrei Büdösfürdő. \n\n📍 June 9\, Monday\n✅ Csíkszéphavas Pilgrimage for Pentecost Monday.✅ 11:00 AM: Holy Mass at Szentlélek Chapel. \n\n📍 June 10\, Tuesday – Return to Pécs\n🚐 Early morning departure for Pécs. \n\n💰 Participation Fee: 160\,000 HUF/person\n✅ Includes: transportation\, accommodation\, fuel\, tolls\, tour guide\, and breakfast on the first two days.❌ Excludes: entrance fees\, meals\, or any additional paid activities.❌ Self-catering for most of the journey (local dining options available). \n🛏 What to Bring? \n\nSleeping bag\, mat for Csíkszereda wellness center and Csíksomlyó vigil.\nWeather-appropriate clothing\, comfortable hiking shoes.\nTowel\, swimsuit for baths and saunas.\nFood and drinks for personal use.\nSurvival essentials (flashlight\, knife\, reusable cup\, musical instruments\, etc.)\n\n\n📩 Registration and Payment\n📌 Deadline: April 12\, 2025 (Deposit: 50\,000 HUF)🏦 Bank Transfer: \n\nRecipient: Mecsekszabolcsi Környezet és Érdekvédő Egyesület\nBank: Takarékbank Zrt.\nAccount Number: 50300109-55100210\nReference: Full name & departure city\n\n📧 Send details to: baranya.mag.pecs@gmail.com📞 Contact: Pelle János (+3620/238-5137) \nLimited spots! First-come\, first-served!
URL:https://www.mecsekszabolcsi.hu/event/baranyamag-tanulmanyut-2025-reszletesprogram/
LOCATION:Csíksomlyó\, Csíkszereda\, Románia
ATTACH;FMTTYPE=image/jpeg:https://www.mecsekszabolcsi.hu/wp-content/uploads/2025/02/IMG_20240518_122504-web-scaled.jpg
END:VEVENT
BEGIN:VEVENT
DTSTART;TZID=UTC:20240513T000000
DTEND;TZID=UTC:20240521T230000
DTSTAMP:20260423T164604
CREATED:20240313T205228Z
LAST-MODIFIED:20240430T095350Z
UID:1593-1715558400-1716332400@www.mecsekszabolcsi.hu
SUMMARY:Szent László király öröksége nyomában és a csíksomlyói búcsú
DESCRIPTION:Baranya MAG – Magyar Népi Gyógyászok tanulmányútja 2024-ben:  \nSzent László király öröksége nyomában és a csíksomlyói búcsú \n 2024. május 13. (hétfő) – május 21. (kedd) között (9 nap) \nCsatlakozz 2024-ben a Baranya MAG által szervezett Pécsről induló tanulmányúthoz és vegyél részt velünk a csíksomlyói búcsún. \nTartalmas és feltöltő programokkal készülünk: a Szent László legendákhoz fűződő helyszínek mellett helyet adunk a gyógynövényismeret túráknak\, kipróbálunk kül- és beltéri gyógyfürdőket\, népi feredőket és mofettákat. Pünkösdkor csatlakozunk a csíksomlyói Zarándoklathoz. A virrasztóknak Napba nézés\, napfelkelte a Somlyó-nyeregben. \nAz állomások bármely pontján lehet csatlakozni a programokhoz\, viszont az utólag csatlakozóknak a szállást és utazást maguknak kell megszervezniük\, de amiben tudunk\, segítünk! \nTervezett állomások \nA szállás 3 részben lesz: hétfő-kedd (2 éjszaka reggelivel) Hegyközszentmikóson\, szerda-csütörtök (2 éjszaka reggelivel) Székelykeresztúron\, (péntek-hétfő batyuból) 4 éjszaka Csíkszeredában. \n  \nMájus 13 hétfő:  \nA kisbusz vasárnap éjfélkor indul (2024. május 13. vasárnap 24 óra) a Pécs – Pázmány Péter-Magyarürögi út\, útkereszteződés parkolójából. (Induláskor már rajta kell lenni\, tehát kéretik fél órával előbb érkezni!) \nFel- és leszállni az útvonal mentén bárhol lehet\, de senkiért nem megyünk le az útvonalról! \nUtazás a következő útvonalon: Pécs\, 2024. május 13. (vasárnap) 24:00 óra – három útvonal lehetséges\, Méhkerék\, vagy Ártándi határátlépéssel – Nagyvárad. Útközben több megállás\, majd déli érkezés Nagyváradra. \n✅Nagyváradon megcsodáljuk Szent László városát\, a Székesegyházat\, megnézzük az egyházi múzeumot\, ahol Szent László hermája ki van állítva. Nevesebb parkjaiban megpihenünk\, jelenlét gyakorlatokat végzünk. Délután a szálláshelyünkre utazunk ✅Hegyközszentmiklósra. Már este igénybe vehetjük a helyi termálfürdőt! \nMájus 14 kedd \nHegyközszentmiklós a termál gyógyfürdőjéről ismert\, vize selymes tapintású\, szaga a petróleumra emlékeztet\, ízületi gyulladások kezelésére kiváló. Látogatás a ✅szentjobbi templomba\, séta a templomkertben. Egy legenda szerint Szent László maga adta a helységnek a nevét\, amikor ott járt. Délután szabad program: fürdés\, szaunázás\, pihenés\, beszélgetés\, séta a környéken. A szálláshelyen az ár tartalmazza a reggelit (kedd és szerda reggel)\, a szauna használatát és a belépést a gyógyfürdőbe. \nMájus 15 szerda  \nFolytatjuk utazásunkat Erdély szívébe. Útba ejtjük ✅Sitert és megnézzük a református templom falfestményeit. https://www.kolcsey.org/magyar-emlekek/partium/siter/ Aznapra a cél ✅Székelykeresztúr\, ahova késő délután érkezünk és elfoglaljuk szálláshelyünket. Esti kikapcsolódásnak elsétálunk a Gyárfás kertbe és megnézzük Petőfi körtefáját. \nMájus 16 csütörtök \nSzékelykeresztúron ellátogatunk a helyi ✅Sóskút sósvíz fürdőhöz. https://www.guide-romania.ro/ro/jbusiness/obiective/baile-traditionale-cristur Aznapi fő programunk ✅Szentábrahámon a gyógynövényes csodakert lesz\, az ottlétünket nem szeretnénk elsietni. https://www.szentabrahami.ro/ Este vissza a szálláshelyre. A szálláshelyen az ár tartalmazza a reggelit. \nMájus 17 péntek  \nReggel összepakolva tovább folytatjuk utunkat Csíkország fele. Útközben megállunk ✅Bögözön\, itt megnézzük a helyi református templomot\, ahol a Kárpát-medencében fellelhető legnagyobb felületű Szent László freskó látható. Aznapi másik fő úticélunk Zeteváron a ✅Bíbor méhészet: megtekintjük a ritkaságnak számító apiterápiás házat\, megtapasztaljuk a kaptárlevegő jótékony hatását. Várhatóan este érkezünk Csíkszeredába szálláshelyünkre\, ami egy egészségközpontban lesz. Itt elővesszük a magunkkal hozott hálózsákjainkat – tatamik lesznek a helyszínen. \nMájus 18 szombat  \nCsíksomlyói búcsú  \nReggel csatlakozás a keresztaljához\, majd gyalog zarándoklás a búcsúba. Kényelmes séta távolságra leszünk a helyszíntől. Aki akar\, részt vesz a 12:30-kor kezdődő pünkösdi ünnepi szentmisén a ✅Hármas halom oltárnál\, a Kis- és Nagy Somlyó hegyek közötti nyeregben. Egész napos böjtöt lehet tartani\, ha nem\, akkor hozott anyagból vagy a helyszínen lehet enni. Napközben kóstolgathatjuk a borvizet\, a Barátok-feredőjében lábat áztatunk\, vásárfiát nézünk és veszünk az otthoni szeretteinknek. 20 órától terveink szerint idén is megyünk Táncszínházba\, a Hargita Nemzeti Székely Népi Együttes előadására\, melynek címe: kÚtjaink. (Ha valaki szeretne jönni\, szóljon nekünk\, vannak félretéve számunkra jegyek!) Aki akar\, Csíksomlyón marad virrasztani\, megjárjuk a Kálváriát és az éjszakát a nyeregben töltjük. Aki pihenni kíván\, visszamegy a szálláshelyre. \nMájus 19 vasárnap  \nHajnalban Napba Nézés. Sok régen látott ismerős találkozik ilyenkor a nyeregben. Van\, hogy csak itt találkozunk – évente egyszer. Majd visszamegyünk a szállásra\, kicsit megpihenünk. Délután a ✅Szentimrei Büdösfürdőn mofettázunk és feltöltődünk a gyönyörű tájban. \nMájus 20 hétfő \nKirándulás ✅Csíkszéphavasra. A hitrege szerint Szent László a pogány kunok egy csapatát szétverte itt. „Győzelme helyén hálaimát emelt az ég urához\, s egy emlék-kápolnát épített\, azután pedig táltos lovával\, a nyomait most is védő szikláról leugratott a völgybe.” (Balla Ede Zsolt- László Király öröksége\, 39. o.) Délelőtt 11-től szentmise a Körkápolnában. Sokan zarándokolnak majd Pünkösd Hétfőjén ide\, régi és új barátokkal ismét lehet találkozni\, gyönyörködni és töltődni a tájban\, Boldogasszony virágos kötényében. \nMájus 21 kedd \nHajnalban hazaindulás ✅Pécsre. \nA program változtatás jogát fenntartjuk. Utunk során lesznek még meglepetés személyek\, akikkel találkozni fogunk. \nElőző évek beszámolóiból itt lehet mazsolázni: >> 2019 >> 2020 (a járvány miatt Baranyában) >>2021 >>2022 >> Képes visszatekintés a Szt. László tanulmányútra és a Csíksomlyói Búcsúra 2022-ben\,   >> 2023 Baranya MAG csíksomlyói tanulmányútja – BESZÁMOLÓ \nEsemény a honlapon: https://www.mecsekszabolcsi.hu/event/szent-laszlo-kiraly-oroksege-nyomaban-es-a-csiksomlyoi-bucsu/ \nJelentkezés és részvételi díj (Utazás\, szállással): \nMAGos zarándok és családja                         140.000.- Ft \nGyüttment:                                                        150.000.- Ft \n  \nKisbusszal megyünk\, ezért nagyon korlátozottak a helyek száma\, jelentkezni 2024 április 28-ig az előleg megfizetésével\, 50.000 Ft lehet. A jelentkezési határidő után fennmaradó helyekre külsösként lehet jelentkezni! A részvétei díj tartalmazza az üzemanyag\, útadó\, idegenvezetés\, szállás díját és az első 4 nap reggeli ellátását\, valamint 2 napos gyógyfürdő belépőt és szaunát a hegyközszentmiklósi szállásunkon. A többi napokon az étkezés önerőből történik\, mindenki a magával hozott\, illetve helyszínen vásárolt elemózsiából. Étkezés rendelésére lesz lehetőség a helyszíneken\, de a programok rugalmasságát meghagyva előre nem szerveztük le\, mert mi van\, ha útközben megtetszik egy hely és ki szeretnénk próbálni. \nA költségek nem tartalmazzák a belépők\, étkezések\, fizető programok árát! Kivéve az első 4 napot\, ami tartalmazza a reggelit\, Hegyközszentmiklóson a szaunát és a belépőt a fürdőbe. \nAz étkezéseket egyrészt saját\, hozott élelemből oldjuk meg\, valamint helyi étkezdékben. Akinek eltérő étkezési szokásai vannak pl: eszik húst\, gluténmentesen étkezik\, vega stb. azt is jelezze\, ha tudjuk\, megoldjuk… \nHoznivalók \nÉtel és ital áldomást hozzatok! Csíkszeredában egy egészségközpontban fogunk aludni\, ahol lesznek tatamik\, de hálózsákot vinnünk kell. Közös térben alszunk. A Csíksomlyón töltendő éjszakai virrasztáshoz is szükséges derékaljat\, hálózsákot\, takarót\, kinek mire van szüksége. A várható időjárásra készülve esőálló felsőruhát hozzatok\, és kényelmes cipőt/bakancsot is\, amiben túrázni is lehet! Kullancs spray-re általában nincs szükség\, de szauna felszerelés\, törölköző kellhet. \nHasznos lehet még zseblámpa\, evőeszköz\, úti pohár\, bicska\, egyéb „túlélő” felszerelések\, saját hangszer\, meg amit még gondoltok 🙂 \nAz előleget\, 50 000 Ft\, személyesen vagy az alábbi bankszámlára kérjük átutalni: Mecsekszabolcsi Környezet és Érdekvédő Egyesület: Takarékbank Zrt.: 50300109-55100210. Megjegyzésben kérjük feltüntetni: Név és melyik településről jön. \n  \nA jelentkezéskor kérjük leadni e-mailben (baranya.mag.pecs@gmail.com) a • nevet\, • címet\, • születési dátum\, • hely\, • útlevél vagy szig. számot (ellenőrizzétek az érvényességet!!!! eddig minden évben leszállítottak valakit a buszról…) email címet és telefonszámot\, és hogy hol szállsz fel. Utas listához szükségesek a fenti adatok. \n  \nJelentkezés és további információ: Pelle János\, baranya.mag.pecs@gmail.com\, +3620 / 238-5137 \n 
URL:https://www.mecsekszabolcsi.hu/event/szent-laszlo-kiraly-oroksege-nyomaban-es-a-csiksomlyoi-bucsu/
LOCATION:Erdély
ATTACH;FMTTYPE=image/jpeg:https://www.mecsekszabolcsi.hu/wp-content/uploads/2024/03/2024-Csiksomlyoi-zarandoklat-hirdetes-kepA-scaled.jpg
END:VEVENT
END:VCALENDAR