BEGIN:VCALENDAR
VERSION:2.0
PRODID:-//Mecsekszabolcsi Környezet- és Érdekvédő Egyesület - ECPv6.15.20//NONSGML v1.0//EN
CALSCALE:GREGORIAN
METHOD:PUBLISH
X-ORIGINAL-URL:https://www.mecsekszabolcsi.hu
X-WR-CALDESC:Események Mecsekszabolcsi Környezet- és Érdekvédő Egyesület
REFRESH-INTERVAL;VALUE=DURATION:PT1H
X-Robots-Tag:noindex
X-PUBLISHED-TTL:PT1H
BEGIN:VTIMEZONE
TZID:UTC
BEGIN:STANDARD
TZOFFSETFROM:+0000
TZOFFSETTO:+0000
TZNAME:UTC
DTSTART:20240101T000000
END:STANDARD
END:VTIMEZONE
BEGIN:VEVENT
DTSTART;TZID=UTC:20251129T093000
DTEND;TZID=UTC:20251129T123000
DTSTAMP:20260423T181503
CREATED:20251118T202803Z
LAST-MODIFIED:20251118T203105Z
UID:2250-1764408600-1764419400@www.mecsekszabolcsi.hu
SUMMARY:Díszkészítés együtt Pécs-Mecsekszabolcson
DESCRIPTION:FB esemény: https://fb.me/e/3M8p4MEKY
URL:https://www.mecsekszabolcsi.hu/event/diszkeszites-egyutt-pecs-mecsekszabolcson/
LOCATION:Szabadságharc utca 1. Pécs\, Szabadságharc utca 1\, Pécs\, 7628
ATTACH;FMTTYPE=image/jpeg:https://www.mecsekszabolcsi.hu/wp-content/uploads/2025/11/2025-Diszkeszites-plakat.jpg
END:VEVENT
END:VCALENDAR