BEGIN:VCALENDAR
VERSION:2.0
PRODID:-//Mecsekszabolcsi Környezet- és Érdekvédő Egyesület - ECPv6.15.20//NONSGML v1.0//EN
CALSCALE:GREGORIAN
METHOD:PUBLISH
X-WR-CALNAME:Mecsekszabolcsi Környezet- és Érdekvédő Egyesület
X-ORIGINAL-URL:https://www.mecsekszabolcsi.hu
X-WR-CALDESC:Események Mecsekszabolcsi Környezet- és Érdekvédő Egyesület
REFRESH-INTERVAL;VALUE=DURATION:PT1H
X-Robots-Tag:noindex
X-PUBLISHED-TTL:PT1H
BEGIN:VTIMEZONE
TZID:UTC
BEGIN:STANDARD
TZOFFSETFROM:+0000
TZOFFSETTO:+0000
TZNAME:UTC
DTSTART:20220101T000000
END:STANDARD
END:VTIMEZONE
BEGIN:VEVENT
DTSTART;TZID=UTC:20240223T140000
DTEND;TZID=UTC:20240225T170000
DTSTAMP:20260423T105943
CREATED:20240128T141855Z
LAST-MODIFIED:20240213T094913Z
UID:1501-1708696800-1708880400@www.mecsekszabolcsi.hu
SUMMARY:Nemes Mátyás biogazda: Hogyan tehetjük termékennyé kertjeinket?
DESCRIPTION:Nemes Mátyás biogazda – a vendégünk 2024 február utolsó hétvégéjén\, aki\n2015-ben az “Év biogazdája” kitüntetését nyerte el. \nNemes Mátyás mintagazdasága Fülöpjakabon van. 70-80 féle növényt termeszt.\nFő témánk: Hogyan tehetjük termékennyé kertjeinket?\nGyere\, találkozz vele\, csatlakozz a programunkhoz: \nFebruár 23.-án 14 órától találkozás Pécs-Vasason (Napüdvözlet Egyesület háza\, bejárat a B. utcáról)\, kötetlen beszélgetés\, 17:30-tól közös jóga Szőts Rózsa jógaoktatóval és Hangfürdő. Nemes Mátyás hangtálaival összerezgeti a résztvevőket\, hogy együtt tudjunk rezdülni! \nFebruár 24.-én mag börzével egybekötött elméleti előadás\, 14 órától a fenti helyszínen. \nFebruár 25.-én gyakorlati útmutatások 10 órától Hosszúhetényben\, a Pelle birtokon\, Szorító dűlő 12. \n  \nAz étkeztetés nem része a programnak\, a magyarok asztala rend szerint zajlik: saját\, hozott ételeket osztunk meg egymással. \nA programon való részvétel adományos jellegű\, napi látogatás szerint\, az előadó díjának/idejének és a helyszíneken felmerülő költségek fedezésére. Köszönjük! \n  \nÉrdeklődni és jelentkezni: 0620/238-5137 vagy a baranya.mag.pecs@gmail.com emailcímen. \n\n  \nKapcsolódó cikkek: \n>> Nemes Mátyás az Év biogazdája 2015-ben\n>> Aki körül mindig vibrál a levegő és a bioélet
URL:https://www.mecsekszabolcsi.hu/event/nemes-matyas-termekeny-kert/
ATTACH;FMTTYPE=image/jpeg:https://www.mecsekszabolcsi.hu/wp-content/uploads/2024/01/Nemes-Matyas-plakat-2024.02.jpg
END:VEVENT
BEGIN:VEVENT
DTSTART;VALUE=DATE:20230811
DTEND;VALUE=DATE:20230814
DTSTAMP:20260423T105943
CREATED:20230316T152530Z
LAST-MODIFIED:20230712T183219Z
UID:1298-1691712000-1691971199@www.mecsekszabolcsi.hu
SUMMARY:Gyógyító Falu MOGY 2023
DESCRIPTION:MOGY – Magyarok Országos Gyűlése\n2023. 08. 11-13.\nHelyszín: Ópusztaszeri Nemzeti Történeti Emlékpark \nA Gyógyító Falut a Magyarok Országos Gyűlése hozta létre\, de már önállóan és több hasonló szervezés keretében is működik\, évente akár 8-10 alkalommal. \nVárunk mindenkit 3 napon át\, előadásokkal\, beszélgetésekkel\, egyéni és csoportos kezelésekkel\, szertartásokkal\, természetes gyógymódok minden változatával. \nA >> Baranya MAG is jelen lesz a Gyógyító Faluban\, keressétek őket. \n \nRészletek még itt: \n>> Gyógyító Falu információs FB csoport
URL:https://www.mecsekszabolcsi.hu/event/gyogyito-falu-mogy-2023/
LOCATION:Ópusztaszer\, Magyarország
END:VEVENT
BEGIN:VEVENT
DTSTART;TZID=UTC:20230730T100000
DTEND;TZID=UTC:20230730T180000
DTSTAMP:20260423T105943
CREATED:20230316T151149Z
LAST-MODIFIED:20230712T164336Z
UID:1287-1690711200-1690740000@www.mecsekszabolcsi.hu
SUMMARY:XXVII. Szabolcs-nap a Szabolcs Parkban
DESCRIPTION:Írd be a naptáradba: \n2023. július 30. Szabolcs-nap a Szabolcs Emlékparkban. Örömmel várunk családoddal együtt!\nXXVII. Szabolcs-nap részletes programja\n10:30  Kapunyitás ágyútűzzel\, Helyszín: Pécs-Mecsekszabolcs Főtér \n11: 00  Keleti mozgásformák egészségre gyakorolt hatásai – bemutatja Szőts Rózsa jóga oktató\, Napüdvözlet Egyesület elnöke\, és  3-1-2 Meridián torna – bemutatja Jakab István\, Helyszín: Szabolcs Emlékpark \n12:00 Grillezett bivalysajtos ebéd kocsis salátával (gluténmentes!) – regisztrált résztvevőknek és előre jelentkezőknek \nFontos: Hozd magaddal a saját tányérodat\, evőeszközödet\, poharadat! A Szent Mihály forrásból lehet friss forrásvizet inni. \n13:00 Megnyitó és Festménybemutató Völgyi Gábor képeivel\, Helyszín: Szent Mihály Közösségi Ház \n \n  \n14:00 “Az Élet szent okokból élni akar” (Ady) Fülöp Szabolcs lelkész\, bivaly tenyésztő\, kézműves sajtkészítő előadása\, Erdélyből\, Székelydákyáról \nHelyszín: Szabolcs Emlékpark \nAz előadás szinapszisa: Választóvonalhoz érkezett az emberiség. Minden\, ami az életet szolgálja\, az megmarad\, ami nem\, az felszámolódik. Minden olyan próbálkozás\, ami a világ átalakítására irányul\, azért van\, hogy döntésre kényszerítse az embereket. Akinek ez fáj\, az megkeresi a lehetőségeket\, a kiutat. Ez a vissza a Földhöz\, a természetes élethez\, a gyógyításhoz. A döntéshez energiát is kell venni. \n„Az Élet szent okokból élni akar\nS ha Magyarországra dob ki valakit\,\nAnnak százszorta inkább kell akarni.” \nAdy Endre: A Tűz márciusa \n  \n  \n16:00 Könyvbemutató: “Örömfőzés gluténmentesen”\, Molnár Ildikó a gluténmentes ételekről \n17:00 Gyógynövényekről beszélgetés és bemutató\, Buczkó Máté Pomázról a tapasztalatairól mesél\, Kiss Erzsébet gyógynövényeket mutat \n18:00 Közös éneklés\, kapuzárás \nA nap folyamán:\nKözös éneklés lesz Gulyás Judittal. \nGyermekfoglalkoztatók: baranta játékok\, origami\, arcfestés\, íjászat\, kosárlabda dobás\, róvás. \nNépi gyógymódok bemutatása: Egészségsátor. \nRegisztrációs email: mecsekszabolcsiegy@gmail.com \n  \n  \n 
URL:https://www.mecsekszabolcsi.hu/event/szabolcs-nap/
LOCATION:Szabolcs Emlékpark\, Pécs-Mecsekszabolcs\, Baranya\, Magyarország
ATTACH;FMTTYPE=image/jpeg:https://www.mecsekszabolcsi.hu/wp-content/uploads/2023/03/Szabolcs-nap-2023-Program-Plakat-scaled.jpg
ORGANIZER;CN="Mecsekszabolcsi K%C3%B6rnyezet %C3%A9s %C3%89rdekv%C3%A9d%C5%91 Egyes%C3%BClet":MAILTO:mecsekszabolcsiegy@gmail.com
END:VEVENT
BEGIN:VEVENT
DTSTART;VALUE=DATE:20230722
DTEND;VALUE=DATE:20230724
DTSTAMP:20260423T105943
CREATED:20230706T152501Z
LAST-MODIFIED:20230712T105606Z
UID:1416-1689984000-1690156799@www.mecsekszabolcsi.hu
SUMMARY:Tanulás – tapasztalás – gyógyulás a Nemes Biogazdaságnál
DESCRIPTION:       \nNemes Mátyás biogazda \n  \nA Fülöpkei Rókák és Nemes Mátyás biogazda meghívására\, a Baranya MAG szervezésében\, örömmel vettük a lehetőséget\, hogy meglátogathatjuk a fülöpjakabi biogazdaságokat\, 2023. július 22-23-án. Tarts velünk!\nA tervezett program első napján\nelsősorban a biogazdálkodással kapcsolatos gyakorlati tapasztalatokkal ismerkedünk\, módszereket tanulunk\, meglátogatjuk a helyi biogazdaságokat. Várhatóan szó kerül majd a Pi vízről\, a gyógygombákról és még sok hasznos információval gazdagodhatunk (https://fulopjakab.asp.lgov.hu/biogazdalkodas). \nMásodik napra\ngyógyításokat tervezünk\, manuális kezeléseket\, főképpen csontkovácsolást Pelle János útmutatásaival\, és hangtálas kezeléseket Nemes Mátyás hangtálaival. Lehetőség lesz kérdezni\, tanulni technikákat\, megtapasztalni fizikai és lelki oldási módokat. Kipróbáljuk a közeli Termálfürdőt is\, érdemes hozni fürdőruhát. (https://hungarikumliget.hu/szolgaltatasok/furdo-es-gyogyaszat/gyarmati-dezso-tanuszoda-es-termalfurdo ) \nHa valaki távolabbról jön\, megérkezhet már péntek estére. Szállásunk a közösségi házban\, jurtában\, vagy nyitott fedél alatt lesz. Derékaljat\, hálózsákot hozz magaddal. Ha igény van\, Kunszálláson\, egy sétányira van vendégház\, ahol egyénileg szobát foglalhatsz magadnak. (Czakóné Bartucz Katalin: 0676/463-841\, 0620/207-6333\, Bio Tanya Kamilla Vendégház) \nAz étkezés (reggeli\, vacsora) batyus. Fontos: hozz magaddal tányért\, evőeszközt\, poharat! Mosogatni mindenki saját maga után fog. 🙂 \nA programokon való részvétel napi 5000 Ft. amely tartalmazza a helyi terményekből készült napi egyszeri meleg étkezést és az előadásokon\, kertlátogatásokon való részvételt. A helyszínre jutáshoz telekocsit szervezünk\, megfelelő számú részvétel esetén buszt bérlünk. Az utazás önköltséges\, a buszbérlésbe és az üzemanyagba pótolni kell. \nA részvétel előzetes regisztrációhoz kötött\, amelyben kérjük\, jelezd\, hogyan oldod meg az odautazást. Jelentkezz a baranya.mag.pecs@gmail.com emailcímen vagy sms-ben (0620/238-5137). \n 
URL:https://www.mecsekszabolcsi.hu/event/tanulas-tapasztalas-gyogyulas-a-nemes-biogazdasagnal/
LOCATION:Fülöpjakab\, Fülöpjakab\, Magyarország
END:VEVENT
BEGIN:VEVENT
DTSTART;TZID=UTC:20230521T233000
DTEND;TZID=UTC:20230530T210000
DTSTAMP:20260423T105943
CREATED:20230330T143958Z
LAST-MODIFIED:20230330T143958Z
UID:1320-1684711800-1685480400@www.mecsekszabolcsi.hu
SUMMARY:Baranya MAG - Magyar Népi Gyógyászok tanulmányútja: Szent László király legendák nyomában és a Csíksomlyói Búcsú
DESCRIPTION:Idén is indul a Baranya MAG Pécsről. \n\n május 22. (hétfő) – május 30. (kedd) között (9 nap)\n\nAz idei tanulmányút szeretnénk\, ha a kapcsolódásokról szólna. Alkalmunk lesz találkozni a nagyváradi\, székelykeresztúri\, csíki népi gyógyító MAGosokkal\, kirándulni\, tartalmas időt tölteni együtt. Közben követjük a Szent László legendákhoz fűződő természeti helyszíneit\, kipróbálva a kül- és beltéri gyógyfürdőket\, népi feredőket és mofettákat. Idén komolyabb túrákat is tervezünk: a Tordai-hasadéknál via ferrata kipróbálására is van lehetőség\, a csíkszéphavasi „kaptató” is jól meg tud szuszogtatni. Tehát idén túrabakkancsra és fürdőruhára fel! Pünkösdkor csatlakozunk a csíksomlyói Zarándoklathoz. A virrasztóknak Napba nézés\, napfelkelte a Somlyó-nyeregben. \nA szállás 3 részben lesz: hétfő-kedd (2 éjszaka) Hegyközszentmikóson\, szerda (1 éjszaka) a Tordai-hasadéknál\, (csütörtök-hétfő) 5 éjszaka Csíkszeredában. \nTervezett program: \nMájus 22 hétfő: \nA kisbusz vasárnap éjfélkor indul (2023. május 21. vasárnap 24 óra) a Pécs – Pázmány Péter-Magyarürögi út\, útkereszteződés parkolójából. (Induláskor már rajta kell lenni\, tehát kéretik fél órával előbb érkezni!) \nFel- és leszállni az útvonal mentén bárhol lehet\, de senkiért nem megyünk le az útvonalról! \nUtazás a következő útvonalon: Pécs\, 2023. május 21. (vasárnap) 24:00 óra – három útvonal lehetséges\, Méhkerék\, vagy Ártándi határátlépéssel – Nagyvárad. Útközben több megállás\, majd déli érkezés Nagyváradra. \nNagyváradon megcsodáljuk Szent László városát\, a Székesegyházat\, a Várat\, megnézzük az egyházi múzeumot ahol Szent László hemája ki van állítva\, megtekintjük a kanonoksort. Nevesebb parkjaiban megpihenünk\, jelenlét gyakorlatokat végzünk\, sétálunk és találkozunk a nagyváradi MAGosokkal. Délután a szálláshelyünkre utazunk Hegyközszentmiklósra. \nMájus 23 kedd \nHegyközszentmiklós a termál gyógyfürdőjéről ismert\, vize selymes tapintású\, szaga a petróleumra emlékeztet\, ízületi gyulladások kezelésére kiváló. Délután közös gyógyító programot tervezünk a nagyváradi MAGosokkal\, kérdés-felelet-mutatom interaktív beszélgetés a manuál gyógyításokkal kapcsolatosan és nemcsak. Közös esti program\, közös vacsora. A szálláshelyen az ár tartalmazza a reggelit (kedd és szerda reggel)\, a szauna használatát és a belépést a gyógyfürdőbe. \nMájus 24 szerda \nFolytatjuk utunkat. Kirándulunk egyet a Tordai-hasadéknál. A Torockói-hegységben található Torda melletti szikla szoros a Szent László király mondakör egyik legismertebb helyszíne. Kellemes tempójú körtúrát teszünk\, beszélgetünk\, shinrin-jokuzunk\, ott töltjük a napot. Este a hasadék lábánál lesz a szálláshelyünk\, hogy minél több ideig szívhassuk magunkba a természet frissítő erejét. \nMájus 25 csütörtök \nElindulunk Erdély szívébe. Déltájban útba ejtjük Székelykeresztúrt\, ahol a helyi MAGos közösség tagjaival találkozunk\, meglátogatunk egy helyi gyógynövényboltot\, megismerkedünk a helyi gyógyító kencékkel\, termékekkel. Következő állomásunk Bögöz\, itt megnézzük a helyi református templomot\, ahol a Kárpát-medencében fellelhető legnagyobb felületű Szent László freskó látható. Késő délután Csíkszeredába érkezünk\, a szállás elfoglalása előtt 1-2 óra alatt feltöltődünk a csíkzsögödi gyógyfürdőben. Szállás egy csíkszeredai egészségközpontban lesz. Itt elővesszük a magunkkal hozott hálózsákjainkat\, tatamik lesznek a helyszínen. \nMájus 26 péntek \nEz a nap a csíkszeredai MAGos népi gyógyítók társaságában zajlik. Közösen meglátogatjuk a Bálványosi feredőket\, kipróbáljuk a mofettákat\, az ottani gyógyító szem-és szájvizet\, és megnézzük a Szent Anna tavat. Lehetőség lesz az ismerkedésre\, tudások megosztására\, az egészséggel kapcsolatos kérdések megbeszélésére. \nMájus 27 szombat \nCsíksomlyói búcsú \nReggel csatlakozás a keresztaljához\, majd gyalog zarándoklás a búcsúba. Kényelmes séta távolságra leszünk a helyszíntől. Aki akar\, részt vesz a 12:30-kor kezdődő pünkösdi ünnepi szentmisén a Hármas halom oltárnál\, a Kis- és Nagy Somlyó hegyek közötti nyeregben. Egész napos böjtöt lehet tartani\, ha nem\, akkor hozott anyagból vagy a helyszínen lehet enni. Napközben kóstolgathatjuk a borvizet\, a Barátok-feredőjében lábat áztatunk\, vásárfiát nézünk és veszünk az otthoni szeretteinknek. 20 órától idén is megyünk Táncszínházba\, a Hargita Nemzeti Székely Népi Együttes előadására\, melynek címe: Boldogasszony tenyerén. (Már foglaltunk jegyeket is! Ha valaki szeretne jönni\, szóljon nekünk.) Aki akar\, Csíksomlyón marad virrasztani\, megjárjuk a Kálváriát és az éjszakát a nyeregben töltjük. Aki pihenni kíván\, visszamegy a szálláshelyre. \nMájus 28 vasárnap \nHajnalban Napba Nézés. Sok régen látott ismerős találkozik ilyenkor a nyeregben. Van\, hogy csak itt találkozunk – évente egyszer. Majd visszamegyünk a szállásra\, kicsit megpihenünk. Délután irány Lázárfalva\, ahol mofettázunk és lábat áztatunk a kénes gyógyvízben. \nMájus 29 hétfő \nKirándulás Csíkszéphavasra. A hitrege szerint Szent László a pogány kunok egy csapatát szétverte itt. „Győzelme helyén hálaimát emelt az ég urához\, s egy emlék-kápolnát épített\, azután pedig táltos lovával\, a nyomait most is védő szikláról leugratott a völgybe.” (Balla Ede Zsolt- László Király öröksége\, 39. o.) Délelőtt 11-től szentmise a Körkápolnában. Sokan zarándokolnak majd Pünkösd Hétfőjén ide\, régi és új barátokkal ismét lehet találkozni\, gyönyörködni és töltődni a tájban\, Boldogasszony virágos kötényében. \nMájus 30 kedd \nHajnalban hazaindulás. \nA program változtatás jogát fenntartjuk. Utunk során lesznek még meglepetés személyek\, akikkel találkozni fogunk. \nElőző évek beszámolóiból itt lehet mazsolázni: >> 2019 >> 2020 (a járvány miatt Baranyában) >>2021 >>2022 \nJelentkezés és részvételi díj (Utazás\, szállással): \nMAGos zarándok és családja:                         120.000.- Ft \nGyüttment:                                                        130.000.- Ft \nKisbusszal megyünk\, ezért nagyon korlátozottak a helyek száma\, így\, aki hamarabb küldi a foglalót (50.000 ft)\, azé a hely. A részvétei díj tartalmazza az üzemanyag\, útadó\, idegenvezetés\, szállás díját és az első 2 nap reggeli ellátását\, valamint 2 napos gyógyfürdő belépőt és szaunát a hegyközszentmiklósi szállásunkon. A többi napokon az étkezés önerőből történik\, mindenki a magával hozott\, illetve helyszínen vásárolt elemózsiából. Étkezés rendelésére lesz lehetőség a helyszíneken\, de a programok rugalmasságát meghagyva előre nem szerveztük le\, mert mi van\, ha útközben megtetszik egy hely és ki szeretnénk próbálni. \nA költségek nem tartalmazzák a belépők\, étkezések\, fizető programok árát! Kivéve az első két napot\, ami tartalmazza a reggelit\, a szaunát és a belépőt a fürdőbe. \nAz étkezéseket egyrészt saját\, hozott élelemből oldjuk meg\, valamint helyi étkezdékben. Akinek eltérő étkezési szokásai vannak pl: eszik húst\, gluténmentesen étkezik\, vega stb. azt is jelezze\, ha tudjuk\, megoldjuk… \nHoznivalók \nÉtel és ital áldomást hozzatok! Csíkszeredában egy egészségközpontban fogunk aludni\, ahol lesznek tatamik\, de hálózsákot vinnünk kell. Külön helységekben alhatunk. A Csíksomlyón töltetendő éjszakai virrasztáshoz is szükséges derékaljat\, hálózsákot\, takarót\, kinek mire van szüksége. A várható időjárásra készülve esőálló felsőruhát hozzatok\, és kényelmes cipőt/bakancsot is\, amiben túrázni is lehet! A kezelések gyakorlásához kendő\, kenőcs kell\, izomcsomókat útközben gyűjtünk… Kullancs spray-re tavaly sem volt szükség\, de szauna felszerelés\, törölköző kellhet. \nHasznos lehet még zseblámpa\, evőeszköz\, úti pohár\, bicska\, egyéb „túlélő” felszerelések\, saját hangszer\, meg amit még gondoltok 🙂 \nAz előleget személyesen vagy az alábbi bankszámlára kérjük átutalni: Mecsekszabolcsi Környezet és Érdekvédő Egyesület: Takarékbank Zrt.: 50300109-55100210. Megjegyzésben kérjük feltüntetni: Név és melyik településről jön. \nA jelentkezéskor kérjük leadni e-mailben (baranya.mag.pecs@gmail.com) a • nevet\, • címet\, • születési dátum\, • hely\, • útlevél vagy szig. számot (ellenőrizzétek az érvényességet!!!! eddig minden évben leszállítottak valakit a buszról…) email címet és telefonszámot\, és hogy hol szállsz fel. Utas listához szükségesek a fenti adatok. \nJelentkezés és további információ: Pelle János \n                  baranya.mag.pecs@gmail.com \n                  +3620 / 238-5137 \nFB esemény linkje: https://fb.me/e/14FrC6Ls5
URL:https://www.mecsekszabolcsi.hu/event/baranya-mag-magyar-nepi-gyogyaszok-tanulmanyutja-szent-laszlo-kiraly-legendak-nyomaban-es-a-csiksomlyoi-bucsu/
LOCATION:Erdély
END:VEVENT
BEGIN:VEVENT
DTSTART;TZID=UTC:20230507T090000
DTEND;TZID=UTC:20230507T180000
DTSTAMP:20260423T105943
CREATED:20230316T151905Z
LAST-MODIFIED:20230428T083602Z
UID:1293-1683450000-1683482400@www.mecsekszabolcsi.hu
SUMMARY:Egészségnap Pécs-Vasason
DESCRIPTION:Egyesületünk /Napüdvözlet Egyesület/ 2023. május 7-én vasárnap Egészségnapot tervez\, melynek záró eseménye este 6 órától Karakürt koncert lesz. \nMájusi egészségnapunk tervezett programja.\n\nÍrjátok fel a naptárba !\n\n\nKisebb változtatások lehetségesek. Előadások témái\, gyógyítók névsora és az ebéd később kerül kiírásra.
URL:https://www.mecsekszabolcsi.hu/event/egeszsegnap/
ORGANIZER;CN="Nap%C3%BCdv%C3%B6zlet Egyes%C3%BClet":MAILTO:napudvozletegyesulet@gmail.com
END:VEVENT
END:VCALENDAR